BEGIN:VCALENDAR
VERSION:2.0
PRODID:-//MiamiCars.com - ECPv6.0.1.1//NONSGML v1.0//EN
CALSCALE:GREGORIAN
METHOD:PUBLISH
X-WR-CALNAME:MiamiCars.com
X-ORIGINAL-URL:https://www.miamicars.com
X-WR-CALDESC:Events for MiamiCars.com
REFRESH-INTERVAL;VALUE=DURATION:PT1H
X-Robots-Tag:noindex
X-PUBLISHED-TTL:PT1H
BEGIN:VTIMEZONE
TZID:America/New_York
BEGIN:DAYLIGHT
TZOFFSETFROM:-0500
TZOFFSETTO:-0400
TZNAME:EDT
DTSTART:20210314T070000
END:DAYLIGHT
BEGIN:STANDARD
TZOFFSETFROM:-0400
TZOFFSETTO:-0500
TZNAME:EST
DTSTART:20211107T060000
END:STANDARD
END:VTIMEZONE
BEGIN:VEVENT
DTSTART;TZID=America/New_York:20211204T100000
DTEND;TZID=America/New_York:20211204T160000
DTSTAMP:20260424T082004
CREATED:20211204T212012Z
LAST-MODIFIED:20211204T212012Z
UID:12789-1638612000-1638633600@www.miamicars.com
SUMMARY:Soul Basel Rolling Art & Vibez
DESCRIPTION:This event is free to the community and will include live music\, food trucks\, vendors and more. Trophies and cash prizes will be awarded for the dopest rides. For more information\, please email brand2brandmarketing@gmail.com or visit IG @rollingartandvibez \nBrought to you by Brand 2 Brand Marketing Inc. and Magloire Homes\, LLC. in partnership with the Southeast Overtown ParkWest C.R.A.
URL:https://www.miamicars.com/event/soul-basel-rolling-art-vibez/
LOCATION:Williams Park\, 1717 NW 5 Avenue\, Miami\, FL\, 33136\, United States
CATEGORIES:Auto Show,Car Show
ATTACH;FMTTYPE=image/jpeg:https://www.miamicars.com/wp-content/uploads/2021/12/https___cdn.evbuc_.com_images_175212169_13379288995_1_original.jpeg
GEO:25.7921504;-80.2028707
X-APPLE-STRUCTURED-LOCATION;VALUE=URI;X-ADDRESS=Williams Park 1717 NW 5 Avenue Miami FL 33136 United States;X-APPLE-RADIUS=500;X-TITLE=1717 NW 5 Avenue:geo:-80.2028707,25.7921504
END:VEVENT
END:VCALENDAR